BEGIN:VCALENDAR
VERSION:2.0
PRODID:-//HAV - Hamburger Autorenvereinigung - ECPv6.15.20//NONSGML v1.0//EN
CALSCALE:GREGORIAN
METHOD:PUBLISH
X-WR-CALNAME:HAV - Hamburger Autorenvereinigung
X-ORIGINAL-URL:https://www.hh-av.de
X-WR-CALDESC:Veranstaltungen für HAV - Hamburger Autorenvereinigung
REFRESH-INTERVAL;VALUE=DURATION:PT1H
X-Robots-Tag:noindex
X-PUBLISHED-TTL:PT1H
BEGIN:VTIMEZONE
TZID:Europe/Berlin
BEGIN:DAYLIGHT
TZOFFSETFROM:+0100
TZOFFSETTO:+0200
TZNAME:CEST
DTSTART:20250330T010000
END:DAYLIGHT
BEGIN:STANDARD
TZOFFSETFROM:+0200
TZOFFSETTO:+0100
TZNAME:CET
DTSTART:20251026T010000
END:STANDARD
BEGIN:DAYLIGHT
TZOFFSETFROM:+0100
TZOFFSETTO:+0200
TZNAME:CEST
DTSTART:20260329T010000
END:DAYLIGHT
BEGIN:STANDARD
TZOFFSETFROM:+0200
TZOFFSETTO:+0100
TZNAME:CET
DTSTART:20261025T010000
END:STANDARD
BEGIN:DAYLIGHT
TZOFFSETFROM:+0100
TZOFFSETTO:+0200
TZNAME:CEST
DTSTART:20270328T010000
END:DAYLIGHT
BEGIN:STANDARD
TZOFFSETFROM:+0200
TZOFFSETTO:+0100
TZNAME:CET
DTSTART:20271031T010000
END:STANDARD
END:VTIMEZONE
BEGIN:VEVENT
DTSTART;TZID=Europe/Berlin:20260423T190000
DTEND;TZID=Europe/Berlin:20260423T190000
DTSTAMP:20260421T125915
CREATED:20260325T085310Z
LAST-MODIFIED:20260325T085447Z
UID:25868-1776970800-1776970800@www.hh-av.de
SUMMARY:Ein Abend für Marina Savova
DESCRIPTION:Ein Abend für Marina Savova – Dank für 25 Jahre Treue zur HAV\nAlfred-Schnittke-Akademie\, Max-Brauer-Allee 24\, 22765 HH \nEintritt frei. \n  \n\nDonnerstag\, 23. April 2026\, 19.00 Uhr
URL:https://www.hh-av.de/veranstaltung/ein-abend-fuer-marina-savova/
LOCATION:Mahnmal St. Nikolai\, Willy-Brandt-Straße 60\, Hamburg\, 20457
CATEGORIES:2026,Hamburger Autorenvereinigung
END:VEVENT
BEGIN:VEVENT
DTSTART;TZID=Europe/Berlin:20260504T183000
DTEND;TZID=Europe/Berlin:20260504T213000
DTSTAMP:20260421T125915
CREATED:20260111T092118Z
LAST-MODIFIED:20260111T092118Z
UID:25820-1777919400-1777930200@www.hh-av.de
SUMMARY:Stammtisch der HAV - nur für Mitglieder
DESCRIPTION:Anmeldungen bitte direkt bei der Trattoria Toscana unter der Telefonnummer:  040 – 39 60 86 \noder per Email: trattoriatoscanahh@hotmail.com \n 
URL:https://www.hh-av.de/veranstaltung/stammtisch-der-hav-nur-fuer-mitglieder-19/
LOCATION:Trattoria Toscana\, Holländische Reihe 25\, Hamburg\, Hamburg\, 22765\, Deutschland
CATEGORIES:2026,Hamburger Autorenvereinigung
END:VEVENT
BEGIN:VEVENT
DTSTART;TZID=Europe/Berlin:20260505T190000
DTEND;TZID=Europe/Berlin:20260505T203000
DTSTAMP:20260421T125915
CREATED:20260111T145937Z
LAST-MODIFIED:20260111T145937Z
UID:25837-1778007600-1778013000@www.hh-av.de
SUMMARY:Haiku-Workshop im Teehaus Große Wallanlagen
DESCRIPTION:Haiku-Workshop im Teehaus Große Wallanlagen\nmit Frau Dr. Sommerkamp-Homann\n(Teehaus in den Großen Wallanlagen\, neben der Rollschuh- und Eisbahn\, schräg gegenüber der Handwerkskammer. Erreichbar über U-Bahn St. Pauli (U3\, oder Bus 16\, Fußweg 10 Minuten) oder mit Bus 112 bis „Handwerkskammer“ (Fußweg 3 Minuten). \n  \nLesung der Hamburger Autorenvereinigung \n\nDienstag\, 05. Mai 2026\, 19-20:30 Uhr \nAWO-Treff im Teehaus Große Wallanlagen \nEintritt: 6 €
URL:https://www.hh-av.de/veranstaltung/haiku-workshop-im-teehaus-grosse-wallanlagen/
LOCATION:Alfred-Schnittke-Akademie\, Max-Brauer-Allee 24\, Hamburg\, 22765
CATEGORIES:2026,Hamburger Autorenvereinigung
END:VEVENT
BEGIN:VEVENT
DTSTART;TZID=Europe/Berlin:20260509T153000
DTEND;TZID=Europe/Berlin:20260509T173000
DTSTAMP:20260421T125915
CREATED:20260206T144426Z
LAST-MODIFIED:20260418T190830Z
UID:25848-1778340600-1778347800@www.hh-av.de
SUMMARY:Tiefsinnige Perlen der Literatur
DESCRIPTION:Eintritt: frei
URL:https://www.hh-av.de/veranstaltung/tiefsinnige-perlen-der-literatur/
LOCATION:Alfred-Schnittke-Akademie\, Max-Brauer-Allee 24\, Hamburg\, 22765
CATEGORIES:2026,Hamburger Autorenvereinigung
END:VEVENT
BEGIN:VEVENT
DTSTART;TZID=Europe/Berlin:20260521T190000
DTEND;TZID=Europe/Berlin:20260521T190000
DTSTAMP:20260421T125915
CREATED:20260325T090523Z
LAST-MODIFIED:20260325T094634Z
UID:25874-1779390000-1779390000@www.hh-av.de
SUMMARY:„Die Schatten der Schuld“ - Buchvorstellung
DESCRIPTION:Buchvorstellung mit dem Autor Michael Jensen\nMahnmal St. Nikolai\nWilly-Brandt-Straße 60\, 20457 Hamburg \nEintritt frei.
URL:https://www.hh-av.de/veranstaltung/buchvorstellung-die-schatten-der-schuld/
LOCATION:Mahnmal St. Nikolai\, Willy-Brandt-Straße 60\, Hamburg\, 20457
CATEGORIES:2026,Hamburger Autorenvereinigung
END:VEVENT
BEGIN:VEVENT
DTSTART;TZID=Europe/Berlin:20260601T183000
DTEND;TZID=Europe/Berlin:20260601T213000
DTSTAMP:20260421T125915
CREATED:20260111T092327Z
LAST-MODIFIED:20260111T092327Z
UID:25822-1780338600-1780349400@www.hh-av.de
SUMMARY:Stammtisch der HAV - nur für Mitglieder
DESCRIPTION:Anmeldungen bitte direkt bei der Trattoria Toscana unter der Telefonnummer:  040 – 39 60 86 \noder per Email: trattoriatoscanahh@hotmail.com \n 
URL:https://www.hh-av.de/veranstaltung/stammtisch-der-hav-nur-fuer-mitglieder-20/
LOCATION:Trattoria Toscana\, Holländische Reihe 25\, Hamburg\, Hamburg\, 22765\, Deutschland
CATEGORIES:2026,Hamburger Autorenvereinigung
END:VEVENT
BEGIN:VEVENT
DTSTART;TZID=Europe/Berlin:20260602T190000
DTEND;TZID=Europe/Berlin:20260602T203000
DTSTAMP:20260421T125915
CREATED:20260325T104252Z
LAST-MODIFIED:20260325T104252Z
UID:25893-1780426800-1780432200@www.hh-av.de
SUMMARY:Lesung Elisabeth Melzer-Geissler
DESCRIPTION:Teehaus Große Wallanlagen\nDienstag\, 2. Juni 2026\n19.00 – 20.30 Uhr \nLesung Elisabeth Melzer-Geissler \nEintritt frei.
URL:https://www.hh-av.de/veranstaltung/lesung-elisabeth-melzer-geissler/
LOCATION:Teehaus Große Wallanlagen
CATEGORIES:2026,Hamburger Autorenvereinigung
END:VEVENT
BEGIN:VEVENT
DTSTART;TZID=Europe/Berlin:20260609T180000
DTEND;TZID=Europe/Berlin:20260609T200000
DTSTAMP:20260421T125915
CREATED:20260208T161255Z
LAST-MODIFIED:20260208T161255Z
UID:25852-1781028000-1781035200@www.hh-av.de
SUMMARY:Schreibende aus Hamburg in der Autorenvereinigung
DESCRIPTION:Schreibende aus Hamburg in der Autorenvereinigung\,\nModeration: Ralf Plenz\nmit: \nCarola Christiansen \nSusanna Farkas \nMichael Jensen \nBirgit Rabisch \nChristine Sterley-Paulsen \nFlorian Weber
URL:https://www.hh-av.de/veranstaltung/schreibende-aus-hamburg-in-der-autorenvereinigung/
LOCATION:Neue Amt\, Neue Große Bergstraße 3\, Hamburg\, 22767
CATEGORIES:2026,Hamburger Autorenvereinigung
END:VEVENT
BEGIN:VEVENT
DTSTART;TZID=Europe/Berlin:20260619T183000
DTEND;TZID=Europe/Berlin:20260619T183000
DTSTAMP:20260421T125916
CREATED:20260325T104814Z
LAST-MODIFIED:20260325T104814Z
UID:25896-1781893800-1781893800@www.hh-av.de
SUMMARY:Lesung Mirko Bonné
DESCRIPTION:Mirko Bonné\, Träger des Hannelore-Greve-Preises 2025 liest auf der Rickmer Rickmers\nAnschließend Empfang\n(nur auf Anmeldung\, nicht barrierefrei)
URL:https://www.hh-av.de/veranstaltung/lesung-mirko-bonne/
LOCATION:Rickmer Rickmers
CATEGORIES:2026,Hamburger Autorenvereinigung
END:VEVENT
BEGIN:VEVENT
DTSTART;TZID=Europe/Berlin:20260707T190000
DTEND;TZID=Europe/Berlin:20260707T203000
DTSTAMP:20260421T125916
CREATED:20260111T150513Z
LAST-MODIFIED:20260111T150513Z
UID:25840-1783450800-1783456200@www.hh-av.de
SUMMARY:Lesung im Teehaus Große Wallanlagen - Christine Sterly-Paulsen
DESCRIPTION:Lesung im Teehaus Große Wallanlagen – Christine Sterly-Paulsen\n(Teehaus in den Großen Wallanlagen\, neben der Rollschuh- und Eisbahn\, schräg gegenüber der Handwerkskammer. Erreichbar über U-Bahn St. Pauli (U3\, oder Bus 16\, Fußweg 10 Minuten) oder mit Bus 112 bis „Handwerkskammer“ (Fußweg 3 Minuten). \n  \nLesung der Hamburger Autorenvereinigung \n\nDienstag\, 07. Juli 2026\, 19-20:30 Uhr \nAWO-Treff im Teehaus Große Wallanlagen \nEintritt: 6 €
URL:https://www.hh-av.de/veranstaltung/lesung-im-teehaus-grosse-wallanlagen-christine-sterly-paulsen/
LOCATION:Alfred-Schnittke-Akademie\, Max-Brauer-Allee 24\, Hamburg\, 22765
CATEGORIES:2026,Hamburger Autorenvereinigung
END:VEVENT
END:VCALENDAR