BEGIN:VCALENDAR
VERSION:2.0
PRODID:-//HAV - Hamburger Autorenvereinigung - ECPv6.15.20//NONSGML v1.0//EN
CALSCALE:GREGORIAN
METHOD:PUBLISH
X-WR-CALNAME:HAV - Hamburger Autorenvereinigung
X-ORIGINAL-URL:https://www.hh-av.de
X-WR-CALDESC:Veranstaltungen für HAV - Hamburger Autorenvereinigung
REFRESH-INTERVAL;VALUE=DURATION:PT1H
X-Robots-Tag:noindex
X-PUBLISHED-TTL:PT1H
BEGIN:VTIMEZONE
TZID:Europe/Berlin
BEGIN:DAYLIGHT
TZOFFSETFROM:+0100
TZOFFSETTO:+0200
TZNAME:CEST
DTSTART:20240331T010000
END:DAYLIGHT
BEGIN:STANDARD
TZOFFSETFROM:+0200
TZOFFSETTO:+0100
TZNAME:CET
DTSTART:20241027T010000
END:STANDARD
BEGIN:DAYLIGHT
TZOFFSETFROM:+0100
TZOFFSETTO:+0200
TZNAME:CEST
DTSTART:20250330T010000
END:DAYLIGHT
BEGIN:STANDARD
TZOFFSETFROM:+0200
TZOFFSETTO:+0100
TZNAME:CET
DTSTART:20251026T010000
END:STANDARD
BEGIN:DAYLIGHT
TZOFFSETFROM:+0100
TZOFFSETTO:+0200
TZNAME:CEST
DTSTART:20260329T010000
END:DAYLIGHT
BEGIN:STANDARD
TZOFFSETFROM:+0200
TZOFFSETTO:+0100
TZNAME:CET
DTSTART:20261025T010000
END:STANDARD
BEGIN:DAYLIGHT
TZOFFSETFROM:+0100
TZOFFSETTO:+0200
TZNAME:CEST
DTSTART:20270328T010000
END:DAYLIGHT
BEGIN:STANDARD
TZOFFSETFROM:+0200
TZOFFSETTO:+0100
TZNAME:CET
DTSTART:20271031T010000
END:STANDARD
END:VTIMEZONE
BEGIN:VEVENT
DTSTART;TZID=Europe/Berlin:20260407T180000
DTEND;TZID=Europe/Berlin:20260407T220000
DTSTAMP:20260421T143347
CREATED:20260111T145630Z
LAST-MODIFIED:20260325T084602Z
UID:25835-1775584800-1775599200@www.hh-av.de
SUMMARY:Lesung im Teehaus Große Wallanlagen - Neue Mitglieder
DESCRIPTION:Lesung im Teehaus Große Wallanlagen\n(Teehaus in den Großen Wallanlagen\, neben der Rollschuh- und Eisbahn\, schräg gegenüber der Handwerkskammer. Erreichbar über U-Bahn St. Pauli (U3\, oder Bus 16\, Fußweg 10 Minuten) oder mit Bus 112 bis „Handwerkskammer“ (Fußweg 3 Minuten). \n  \nLesung der Hamburger Autorenvereinigung \n\nDienstag\, 07. April 2026\, 18.00 – 22.00 Uhr \nAWO-Treff im Teehaus Große Wallanlagen \nEintritt: 6 €
URL:https://www.hh-av.de/veranstaltung/lesung-im-teehaus-grosse-wallanlagen-neue-mitglieder/
LOCATION:Alfred-Schnittke-Akademie\, Max-Brauer-Allee 24\, Hamburg\, 22765
CATEGORIES:2026,Hamburger Autorenvereinigung
END:VEVENT
BEGIN:VEVENT
DTSTART;TZID=Europe/Berlin:20260406T183000
DTEND;TZID=Europe/Berlin:20260406T213000
DTSTAMP:20260421T143347
CREATED:20260111T091631Z
LAST-MODIFIED:20260111T091631Z
UID:25818-1775500200-1775511000@www.hh-av.de
SUMMARY:Stammtisch der HAV - nur für Mitglieder
DESCRIPTION:Anmeldungen bitte direkt bei der Trattoria Toscana unter der Telefonnummer:  040 – 39 60 86 \noder per Email: trattoriatoscanahh@hotmail.com \n 
URL:https://www.hh-av.de/veranstaltung/stammtisch-der-hav-nur-fuer-mitglieder-18/
LOCATION:Trattoria Toscana\, Holländische Reihe 25\, Hamburg\, Hamburg\, 22765\, Deutschland
CATEGORIES:2026,Hamburger Autorenvereinigung
END:VEVENT
BEGIN:VEVENT
DTSTART;TZID=Europe/Berlin:20260303T190000
DTEND;TZID=Europe/Berlin:20260303T203000
DTSTAMP:20260421T143347
CREATED:20260111T143427Z
LAST-MODIFIED:20260111T143427Z
UID:25833-1772564400-1772569800@www.hh-av.de
SUMMARY:Spendenlesung im Teehaus Große Wallanlagen
DESCRIPTION:Lesung im Teehaus Große Wallanlagen\n(Teehaus in den Großen Wallanlagen\, neben der Rollschuh- und Eisbahn\, schräg gegenüber der Handwerkskammer. Erreichbar über U-Bahn St. Pauli (U3\, oder Bus 16\, Fußweg 10 Minuten) oder mit Bus 112 bis „Handwerkskammer“ (Fußweg 3 Minuten). \n  \nLesung der Hamburger Autorenvereinigung \n\nDienstag\, 03. März 2026\, 19-20:30 Uhr \nAWO-Treff im Teehaus Große Wallanlagen \nDer „Freundeskreis UKE für Kinder mit Demenz e.V.“ hat das Buch „Schau mal“ herausgegeben. Es beschäftigt sich mit Denkmälern und Skulpturen herausragender Künstler und Künstlerinnen \n– mit Hamburgs Kunst unter freiem Himmel\, interessanten Werken\, denen wir womöglich täglich begegnen ohne sie \nrichtig wahrzunehmen bzw. ihre Geschichten zu kennen. \n  \nEintritt frei\, Spenden für den „UKE für Kinder mit Demenz“sind erwünscht. \n  \n 
URL:https://www.hh-av.de/veranstaltung/spendenlesung-im-teehaus-grosse-wallanlagen/
CATEGORIES:2026,Hamburger Autorenvereinigung
END:VEVENT
BEGIN:VEVENT
DTSTART;TZID=Europe/Berlin:20260302T183000
DTEND;TZID=Europe/Berlin:20260302T213000
DTSTAMP:20260421T143347
CREATED:20260111T091430Z
LAST-MODIFIED:20260111T091430Z
UID:25816-1772476200-1772487000@www.hh-av.de
SUMMARY:Stammtisch der HAV - nur für Mitglieder
DESCRIPTION:Anmeldungen bitte direkt bei der Trattoria Toscana unter der Telefonnummer:  040 – 39 60 86 \noder per Email: trattoriatoscanahh@hotmail.com \n 
URL:https://www.hh-av.de/veranstaltung/stammtisch-der-hav-nur-fuer-mitglieder-17/
LOCATION:Trattoria Toscana\, Holländische Reihe 25\, Hamburg\, Hamburg\, 22765\, Deutschland
CATEGORIES:Hamburger Autorenvereinigung
END:VEVENT
BEGIN:VEVENT
DTSTART;TZID=Europe/Berlin:20260203T190000
DTEND;TZID=Europe/Berlin:20260203T203000
DTSTAMP:20260421T143347
CREATED:20260112T135318Z
LAST-MODIFIED:20260112T135318Z
UID:25842-1770145200-1770150600@www.hh-av.de
SUMMARY:Lesung im Teehaus Große Wallanlagen - Reimer Boy Eilers
DESCRIPTION:Lesung Reimer Boy Eilers\n  \nHamburger Autorenvereinigung und AWO Hamburg \n  \nDienstag\, 03. Februar 2026\, 19-20:30 Uhr \nAWO-Treff Planten un Blomen im Teehaus Große Wallanlagen \n(am Holstenwall\, neben der Eis- und Rollschuhbahn) \n  \nReimer Boy Eilers liest aus seinem neuen Roman „Das Witte Kliff“. Für sein Romanprojekt Magellan – Erste Weltumsegelung erhielt er 2022 ein Reisestipendium (Philippinen) der Hamburgischen Kulturstiftung. Eilers ist Mitglied der HAV und Generalsektretär des Niederdeutsch-Friesischen PEN-Zentrums. Infos: Wikipedia\, Literaturland SH (zu empfehlen) oder Kulturmaschinen Verlag. \nHelgoland – das Hillige Land – im späten Mittelalter. Neben dem berühmten roten Bundsandstein ragt ein weißer Kreidefelsen aus dem Meer\, ein Wunder der Natur und zugleich ein begehrter Baustoff. Mächtige Interessen des Festlands betreiben Raubbau. Das Meer verschlingt den geschwächten Felsen\, eine wahre Historie.
URL:https://www.hh-av.de/veranstaltung/lesung-im-teehaus-grosse-wallanlagen-reimer-boy-eilers/
LOCATION:Alfred-Schnittke-Akademie\, Max-Brauer-Allee 24\, Hamburg\, 22765
CATEGORIES:2026,Hamburger Autorenvereinigung
END:VEVENT
BEGIN:VEVENT
DTSTART;TZID=Europe/Berlin:20260202T183000
DTEND;TZID=Europe/Berlin:20260202T220000
DTSTAMP:20260421T143347
CREATED:20260111T091208Z
LAST-MODIFIED:20260111T091308Z
UID:25814-1770057000-1770069600@www.hh-av.de
SUMMARY:Stammtisch der HAV - nur für Mitglieder
DESCRIPTION:Anmeldungen bitte direkt bei der Trattoria Toscana unter der Telefonnummer:  040 – 39 60 86 \noder per Email: trattoriatoscanahh@hotmail.com \n 
URL:https://www.hh-av.de/veranstaltung/stammtisch-der-hav-nur-fuer-mitglieder-16/
LOCATION:Trattoria Toscana\, Holländische Reihe 25\, Hamburg\, Hamburg\, 22765\, Deutschland
END:VEVENT
BEGIN:VEVENT
DTSTART;TZID=Europe/Berlin:20260127T190000
DTEND;TZID=Europe/Berlin:20260127T210000
DTSTAMP:20260421T143347
CREATED:20260111T085234Z
LAST-MODIFIED:20260111T092359Z
UID:25811-1769540400-1769547600@www.hh-av.de
SUMMARY:Gedenkveranstaltung für die Opfer des Nationalsozialismus
DESCRIPTION:
URL:https://www.hh-av.de/veranstaltung/gedenkveranstaltung-fuer-die-opfer-des-nationalsozialismus-5/
LOCATION:Hauptkirche St. Michaelis\, Englische Planke 1\, Hamburg\, Hamburg\, 20459\, Deutschland
CATEGORIES:2026,Hamburger Autorenvereinigung
END:VEVENT
BEGIN:VEVENT
DTSTART;TZID=Europe/Berlin:20260118T110000
DTEND;TZID=Europe/Berlin:20260118T130000
DTSTAMP:20260421T143347
CREATED:20251012T172543Z
LAST-MODIFIED:20251012T172543Z
UID:25773-1768734000-1768741200@www.hh-av.de
SUMMARY:Neujahrsempfang (nur für geladene Gäste)
DESCRIPTION:
URL:https://www.hh-av.de/veranstaltung/neujahrsempfang-nur-fuer-geladene-gaeste/
LOCATION:Deutsches Schauspielhaus\, Marmorsaal\, Kirchenallee 39\, Hamburg\, Hamburg\, 20099\, Deutschland
CATEGORIES:Hamburger Autorenvereinigung
END:VEVENT
BEGIN:VEVENT
DTSTART;TZID=Europe/Berlin:20251216T190000
DTEND;TZID=Europe/Berlin:20251216T210000
DTSTAMP:20260421T143347
CREATED:20251012T084557Z
LAST-MODIFIED:20251012T084557Z
UID:25758-1765911600-1765918800@www.hh-av.de
SUMMARY:Weihnachtslesung
DESCRIPTION:
URL:https://www.hh-av.de/veranstaltung/weihnachtslesung-4/
LOCATION:Bethanienhöfe\, Martinistr. 47-49\, Hamburg\, 20251\, Deutschland
CATEGORIES:Hamburger Autorenvereinigung
END:VEVENT
BEGIN:VEVENT
DTSTART;TZID=Europe/Berlin:20251208T110000
DTEND;TZID=Europe/Berlin:20251208T133000
DTSTAMP:20260421T143347
CREATED:20250609T125357Z
LAST-MODIFIED:20250609T125357Z
UID:25704-1765191600-1765200600@www.hh-av.de
SUMMARY:Verleihung des Grevepreises
DESCRIPTION:
URL:https://www.hh-av.de/veranstaltung/verleihung-des-grevepreises/
LOCATION:Hamburger Rathaus\, Rathausmarkt 1\, Hamburg\, Hamburg\, 20095\, Deutschland
CATEGORIES:Hamburger Autorenvereinigung
END:VEVENT
BEGIN:VEVENT
DTSTART;TZID=Europe/Berlin:20251202T190000
DTEND;TZID=Europe/Berlin:20251202T203000
DTSTAMP:20260421T143347
CREATED:20251012T085838Z
LAST-MODIFIED:20251012T085838Z
UID:25765-1764702000-1764707400@www.hh-av.de
SUMMARY:Lesung im Teehaus Große Wallanlagen - Maren Schönfeld
DESCRIPTION:
URL:https://www.hh-av.de/veranstaltung/lesung-im-teehaus-grosse-wallanlagen-maren-schoenfeld-2/
LOCATION:Alfred-Schnittke-Akademie\, Max-Brauer-Allee 24\, Hamburg\, 22765
CATEGORIES:Hamburger Autorenvereinigung
END:VEVENT
BEGIN:VEVENT
DTSTART;TZID=Europe/Berlin:20251202T190000
DTEND;TZID=Europe/Berlin:20251202T203000
DTSTAMP:20260421T143347
CREATED:20250609T131206Z
LAST-MODIFIED:20250609T131206Z
UID:25715-1764702000-1764707400@www.hh-av.de
SUMMARY:Lesung im Teehaus Große Wallanlagen - Maren Schönfeld
DESCRIPTION:Lesung im Teehaus Große Wallanlagen\n(Teehaus in den Großen Wallanlagen\, neben der Rollschuh- und Eisbahn\, schräg gegenüber der Handwerkskammer. Erreichbar über U-Bahn St. Pauli (U3\, oder Bus 16\, Fußweg 10 Minuten) oder mit Bus 112 bis „Handwerkskammer“ (Fußweg 3 Minuten). \n  \nLesung der Hamburger Autorenvereinigung \n\nDienstag\, 04. November 2025\, 19-20:30 Uhr \nAWO-Treff im Teehaus Große Wallanlagen \nEintritt: 6 €
URL:https://www.hh-av.de/veranstaltung/lesung-im-teehaus-grosse-wallanlagen-maren-schoenfeld/
LOCATION:Alfred-Schnittke-Akademie\, Max-Brauer-Allee 24\, Hamburg\, 22765
CATEGORIES:Hamburger Autorenvereinigung
END:VEVENT
BEGIN:VEVENT
DTSTART;TZID=Europe/Berlin:20251201T183000
DTEND;TZID=Europe/Berlin:20251201T213000
DTSTAMP:20260421T143347
CREATED:20251012T084302Z
LAST-MODIFIED:20251012T162804Z
UID:25756-1764613800-1764624600@www.hh-av.de
SUMMARY:Stammtisch der HAV - nur für Mitglieder
DESCRIPTION:Anmeldungen bitte direkt bei der Trattoria Toscana unter der Telefonnummer:  040 – 39 60 86 \noder per Email: trattoriatoscanahh@hotmail.com \n  \n 
URL:https://www.hh-av.de/veranstaltung/stammtisch-der-hav-nur-fuer-mitglieder-15/
LOCATION:Trattoria Toscana\, Holländische Reihe 25\, Hamburg\, Hamburg\, 22765\, Deutschland
CATEGORIES:Hamburger Autorenvereinigung
END:VEVENT
BEGIN:VEVENT
DTSTART;TZID=Europe/Berlin:20251113T190000
DTEND;TZID=Europe/Berlin:20251113T210000
DTSTAMP:20260421T143347
CREATED:20251012T084738Z
LAST-MODIFIED:20251012T084738Z
UID:25760-1763060400-1763067600@www.hh-av.de
SUMMARY:Kalenderlesung
DESCRIPTION:
URL:https://www.hh-av.de/veranstaltung/kalenderlesung-2/
LOCATION:Bethanienhöfe\, Martinistr. 47-49\, Hamburg\, 20251\, Deutschland
CATEGORIES:Hamburger Autorenvereinigung
END:VEVENT
BEGIN:VEVENT
DTSTART;TZID=Europe/Berlin:20251111T170000
DTEND;TZID=Europe/Berlin:20251111T210000
DTSTAMP:20260421T143347
CREATED:20251012T083320Z
LAST-MODIFIED:20251012T083320Z
UID:25752-1762880400-1762894800@www.hh-av.de
SUMMARY:Workshop für Mitglieder der HAV
DESCRIPTION:Workshop Ralf Plenz: Dienstag\, 11. November 17 bis 21 Uhr\, Schmarjestr. 42 für maximal 6 Teilnehmer (freiwillige Kostenbeteiligung je 10 €) \nAn diesem Abend wird mit Ralf Plenz in einer offenen Gesprächsatmosphäre das Thema des Monats gemeinsam gefunden. Es könnte sich beispielsweise handeln um: \n\nRomankonstruktion\, Dramaturgie\, Schreibstil weiterentwickeln\nunterschiedliche Methoden des Feedbacks als wertvolles Werkzeug für den eigenen Text kennenlernen und ausprobieren\nWeiterarbeiten am eigenen Text\, angereichert durch Impulse von außen als Inspiration\nArbeitsorganisation\, Zeitplanung\, Motivation\nBuchgestaltung und Buchherstellung\, auch: Druck\nMarketing fürs Buch\, Lesungen bewerben\nden geeigneten Verlag finden\n… und alles rund ums Schreiben und Publizieren\n\nDie Teilnehmerzahl ist begrenzt\, also schnell anmelden unter info@hh-av.de
URL:https://www.hh-av.de/veranstaltung/workshop-fuer-mitglieder-der-hav/
CATEGORIES:Hamburger Autorenvereinigung
END:VEVENT
BEGIN:VEVENT
DTSTART;TZID=Europe/Berlin:20251104T190000
DTEND;TZID=Europe/Berlin:20251104T203000
DTSTAMP:20260421T143347
CREATED:20251012T085014Z
LAST-MODIFIED:20251012T085014Z
UID:25762-1762282800-1762288200@www.hh-av.de
SUMMARY:Lesung im Teehaus Große Wallanlagen
DESCRIPTION:Leseabend der Gruppe „Schreib!Altona“  \n  \nHamburger Autorenvereinigung und AWO Hamburg \n  \nDienstag\, 04. November 2025\, 19-20:30 Uhr \nAWO-Treff Planten un Blomen im Teehaus Große Wallanlagen \n(am Holstenwall\, neben der Eis- und Rollschuhbahn) \n  \nEintritt: 6 Euro \n  \nDie Gruppe „Schreib!Altona“ entstand aus einem Schreibprojekt der Altonale 2019. In der Schlussphase der Altonale fand da eine erste öffentliche Lesung in der Bücherhalle im Mercado statt\, im „Altona Magazin“ wurden die ersten acht Kurzgeschichten aus der Schreibwerkstatt gedruckt. Nach der Altonale löste die Gruppe sich nicht auf\, sondern traf sich – mit leichten personellen Veränderungen – weiter zu Schreibübungen\, zur Diskussion unveröffentlichter und bei verschiedenen Verlagen und Zeitschriften veröffentlichter Texte\, zur Information über Ausschreibungen und Einladungen\, zur Vorbereitung auf Lesungen usw. In der Teehaus-Lesung werden lyrische und Prosa-Texte vorgetragen von \n  \n\nAngelika Holderberg\nHelga Mietz\nJochen Stüsser-Simpson\nLilo Endriss\nSonja Baer\nStephanie Haddenga\n\n  \n 
URL:https://www.hh-av.de/veranstaltung/lesung-im-teehaus-grosse-wallanlagen-4/
LOCATION:Alfred-Schnittke-Akademie\, Max-Brauer-Allee 24\, Hamburg\, 22765
CATEGORIES:Hamburger Autorenvereinigung
END:VEVENT
BEGIN:VEVENT
DTSTART;TZID=Europe/Berlin:20251104T190000
DTEND;TZID=Europe/Berlin:20251104T203000
DTSTAMP:20260421T143347
CREATED:20250609T130935Z
LAST-MODIFIED:20250609T130935Z
UID:25713-1762282800-1762288200@www.hh-av.de
SUMMARY:Lesung im Teehaus Große Wallanlagen - Jochen Stüsser-Simpson
DESCRIPTION:Lesung im Teehaus Große Wallanlagen\n(Teehaus in den Großen Wallanlagen\, neben der Rollschuh- und Eisbahn\, schräg gegenüber der Handwerkskammer. Erreichbar über U-Bahn St. Pauli (U3\, oder Bus 16\, Fußweg 10 Minuten) oder mit Bus 112 bis „Handwerkskammer“ (Fußweg 3 Minuten). \n  \nLesung der Hamburger Autorenvereinigung \n\nDienstag\, 04. November 2025\, 19-20:30 Uhr \nAWO-Treff im Teehaus Große Wallanlagen \nEintritt: 6 €
URL:https://www.hh-av.de/veranstaltung/lesung-im-teehaus-grosse-wallanlagen-jochen-stuesser-simpson/
LOCATION:Alfred-Schnittke-Akademie\, Max-Brauer-Allee 24\, Hamburg\, 22765
CATEGORIES:Hamburger Autorenvereinigung
END:VEVENT
BEGIN:VEVENT
DTSTART;TZID=Europe/Berlin:20251103T183000
DTEND;TZID=Europe/Berlin:20251103T213000
DTSTAMP:20260421T143347
CREATED:20251012T084122Z
LAST-MODIFIED:20251012T162950Z
UID:25754-1762194600-1762205400@www.hh-av.de
SUMMARY:Stammtisch der HAV - nur für Mitglieder
DESCRIPTION:Anmeldungen bitte direkt bei der Trattoria Toscana unter der Telefonnummer:  040 – 39 60 86 \noder per Email: trattoriatoscanahh@hotmail.com \n  \n 
URL:https://www.hh-av.de/veranstaltung/stammtisch-der-hav-nur-fuer-mitglieder-14/
LOCATION:Trattoria Toscana\, Holländische Reihe 25\, Hamburg\, Hamburg\, 22765\, Deutschland
CATEGORIES:Hamburger Autorenvereinigung
END:VEVENT
BEGIN:VEVENT
DTSTART;TZID=Europe/Berlin:20251017T190000
DTEND;TZID=Europe/Berlin:20251017T210000
DTSTAMP:20260421T143347
CREATED:20250609T125718Z
LAST-MODIFIED:20250609T125718Z
UID:25706-1760727600-1760734800@www.hh-av.de
SUMMARY:Verleihung des Kurzgeschichtenpreises der HAV
DESCRIPTION:
URL:https://www.hh-av.de/veranstaltung/verleihung-des-kurzgeschichtenpreises-der-hav-2/
LOCATION:Bethanienhöfe\, Martinistr. 47-49\, Hamburg\, 20251\, Deutschland
CATEGORIES:Hamburger Autorenvereinigung
END:VEVENT
BEGIN:VEVENT
DTSTART;TZID=Europe/Berlin:20251007T190000
DTEND;TZID=Europe/Berlin:20251007T203000
DTSTAMP:20260421T143347
CREATED:20250609T131400Z
LAST-MODIFIED:20250720T081916Z
UID:25717-1759863600-1759869000@www.hh-av.de
SUMMARY:Lesung im Teehaus Große Wallanlagen - Joachim Frank
DESCRIPTION:
URL:https://www.hh-av.de/veranstaltung/treffen-neuer-mitglieder-im-teehaus-grosse-wallanlagen/
LOCATION:Alfred-Schnittke-Akademie\, Max-Brauer-Allee 24\, Hamburg\, 22765
CATEGORIES:Hamburger Autorenvereinigung
END:VEVENT
BEGIN:VEVENT
DTSTART;TZID=Europe/Berlin:20250926T190000
DTEND;TZID=Europe/Berlin:20250926T210000
DTSTAMP:20260421T143347
CREATED:20250609T125957Z
LAST-MODIFIED:20250807T162010Z
UID:25708-1758913200-1758920400@www.hh-av.de
SUMMARY:Mitglieder der HAV stellen ihre Neue Bücher vor
DESCRIPTION:Einladung Neue Bücher 25
URL:https://www.hh-av.de/veranstaltung/mitglieder-der-hav-stellen-ihre-neue-buecher-vor/
LOCATION:Bethanienhöfe\, Martinistr. 47-49\, Hamburg\, 20251\, Deutschland
CATEGORIES:Hamburger Autorenvereinigung
END:VEVENT
BEGIN:VEVENT
DTSTART;TZID=Europe/Berlin:20250902T190000
DTEND;TZID=Europe/Berlin:20250902T203000
DTSTAMP:20260421T143347
CREATED:20250609T130513Z
LAST-MODIFIED:20250807T161317Z
UID:25710-1756839600-1756845000@www.hh-av.de
SUMMARY:Lesung im Teehaus Große Wallanlagen - Leo Hansen
DESCRIPTION:Lesung im Teehaus Große Wallanlagen\n(Teehaus in den Großen Wallanlagen\, neben der Rollschuh- und Eisbahn\, schräg gegenüber der Handwerkskammer. Erreichbar über U-Bahn St. Pauli (U3\, oder Bus 16\, Fußweg 10 Minuten) oder mit Bus 112 bis „Handwerkskammer“ (Fußweg 3 Minuten). \n  \nLesung der Hamburger Autorenvereinigung \n\nDienstag\, 02. September 2025\, 19-20:30 Uhr \nAWO-Treff im Teehaus Große Wallanlagen \nEintritt: 6 € \n  \nIn der Kurzgeschichte »Teekesselchen« treffen sich nach vielen Jahren ehemalige Jugendfreunde wieder\,\ndie als Kinder am 3. Mai 1945 die Morde an ehemaligen KZ-Häftlingen am Strand zwischen Neustadt\nund Pelzerhaken heimlich beobachtet und einen Täter erkannt haben. In ihrer Angst legten sie\ndamals ein Schweigegelübde ab. Jahrelang haben sie unter dieser Last gelitten. Bei ihrem\nWiedersehen beschließen sie\, sich mit einem kühnen Plan davon zu befreien. \nDieser Geschichte liegt die Tragödie der Cap Arcona in der Lübecker Bucht am 3. Mai 1945 zugrunde\, bei der über 7000 KZ-Insassen starben. Das Schiff (und zwei weitere) sind von Britischen Bombern versenkt worden\, \nweil sie Annahmen\, dass dort Nazis an Bord waren\, die nach Norwegen fliehen wollten. Wenige überlebende Menschen vorwiegend jüdischen Glaubens flohen mit Schuten an den Strand und wurden vom \nNeustädter Volkssturm erschossen. \n  \nDie Lesung wird mit (historischen) Fotos illustriert. \n  \n 
URL:https://www.hh-av.de/veranstaltung/lesung-im-teehaus-grosse-wallanlagen-leo-hansen/
LOCATION:Alfred-Schnittke-Akademie\, Max-Brauer-Allee 24\, Hamburg\, 22765
CATEGORIES:Hamburger Autorenvereinigung
END:VEVENT
BEGIN:VEVENT
DTSTART;TZID=Europe/Berlin:20250804T183000
DTEND;TZID=Europe/Berlin:20250804T213000
DTSTAMP:20260421T143347
CREATED:20250427T170408Z
LAST-MODIFIED:20250427T170408Z
UID:25596-1754332200-1754343000@www.hh-av.de
SUMMARY:Stammtisch der HAV - nur für Mitglieder
DESCRIPTION:Anmeldungen bitte direkt bei der Trattoria Toscana unter der Telefonnummer:  040 – 39 60 86 \noder per Email: trattoriatoscanahh@hotmail.com \n 
URL:https://www.hh-av.de/veranstaltung/stammtisch-der-hav-nur-fuer-mitglieder-13/
LOCATION:Trattoria Toscana\, Holländische Reihe 25\, Hamburg\, Hamburg\, 22765\, Deutschland
CATEGORIES:Hamburger Autorenvereinigung
END:VEVENT
BEGIN:VEVENT
DTSTART;TZID=Europe/Berlin:20250719T163000
DTEND;TZID=Europe/Berlin:20250719T193000
DTSTAMP:20260421T143347
CREATED:20250609T124930Z
LAST-MODIFIED:20250720T081959Z
UID:25699-1752942600-1752953400@www.hh-av.de
SUMMARY:Literarische Alsterdampferfahrt
DESCRIPTION:
URL:https://www.hh-av.de/veranstaltung/literarische-alterdampferfahrt/
LOCATION:Alsterdampferfahrt\, Jungfernstieg\, Anleger 7\, Hamburg\, Hamburg\, Germany
CATEGORIES:Hamburger Autorenvereinigung
END:VEVENT
BEGIN:VEVENT
DTSTART;TZID=Europe/Berlin:20250707T180000
DTEND;TZID=Europe/Berlin:20250707T213000
DTSTAMP:20260421T143347
CREATED:20250427T170300Z
LAST-MODIFIED:20250427T170300Z
UID:25594-1751911200-1751923800@www.hh-av.de
SUMMARY:Stammtisch der HAV - nur für Mitglieder
DESCRIPTION:Anmeldungen bitte direkt bei der Trattoria Toscana unter der Telefonnummer:  040 – 39 60 86 \noder per Email: trattoriatoscanahh@hotmail.com \n 
URL:https://www.hh-av.de/veranstaltung/stammtisch-der-hav-nur-fuer-mitglieder-12/
LOCATION:Trattoria Toscana\, Holländische Reihe 25\, Hamburg\, Hamburg\, 22765\, Deutschland
CATEGORIES:Hamburger Autorenvereinigung
END:VEVENT
BEGIN:VEVENT
DTSTART;TZID=Europe/Berlin:20250701T190000
DTEND;TZID=Europe/Berlin:20250701T203000
DTSTAMP:20260421T143347
CREATED:20250609T123811Z
LAST-MODIFIED:20250609T123811Z
UID:25695-1751396400-1751401800@www.hh-av.de
SUMMARY:Holz trifft Canvas
DESCRIPTION:Holz trifft Canvas \nHamburger Autorenvereinigung und AWO Hamburg \n  \nDienstag\, 01. Juli 2025\, 19-20:30 Uhr \nAWO-Treff Planten un Blomen im Teehaus Große Wallanlagen \n(am Holstenwall\, neben der Eis- und Rollschuhbahn)                                                                  \n  \nEintritt: 6 Euro \n  \nHolz trifft Canvas \nDie Zusammenarbeit zwischen einem Kunstmaler und einem Holzkünstler kann ein gemeinsames Kunstwerk in eine wechselwirkende Dimension verzaubern\, in dem die Grenzen zwischen Haptik und Abstraktion verschmelzen. \nDer Holzkünstler Jens Schultz lässt in seinen Holzobjekten\, Risse\, Bruchstellen und Äste\,  einfließen\, und schöpft aus ihnen die Einzigartigkeit der Weitergabe. \n  \nWie ein Genogramm verwandtschaftlicher Zusammenhänge von wiederkehrenden Strukturen\, spiegelt sich die Natur in den Leinwänden des Künstlers Dimitrios Athanasiou abstrakt wieder. Mal als Tiergestalt\, Spiegelung\, geschnitztes Element oder Wandmalerei\, stellen die Künstler die Kraft der Ursprünglichkeit dar. Doppelgestalten aus veralteten Holzresten und naturalistische Acrylbilder stellen sich mal minimalistisch mal experimentell gegenüber und erzählen sich flüsternd Geschichten. Beide Künstler leben in Hamburgs urbaner Natur und begegnen sich am 01.07 in Planten un Blomen im Teehaus um 19:00 Uhr.
URL:https://www.hh-av.de/veranstaltung/holz-trifft-canvas/
LOCATION:Alfred-Schnittke-Akademie\, Max-Brauer-Allee 24\, Hamburg\, 22765
CATEGORIES:Hamburger Autorenvereinigung
END:VEVENT
BEGIN:VEVENT
DTSTART;TZID=Europe/Berlin:20250603T190000
DTEND;TZID=Europe/Berlin:20250603T203000
DTSTAMP:20260421T143347
CREATED:20250427T170847Z
LAST-MODIFIED:20250427T170847Z
UID:25600-1748977200-1748982600@www.hh-av.de
SUMMARY:Lesung im Teehaus Große Wallanlagen
DESCRIPTION:Lesung im Teehaus Große Wallanlagen\n(Teehaus in den Großen Wallanlagen\, neben der Rollschuh- und Eisbahn\, schräg gegenüber der Handwerkskammer. Erreichbar über U-Bahn St. Pauli (U3\, oder Bus 16\, Fußweg 10 Minuten) oder mit Bus 112 bis „Handwerkskammer“ (Fußweg 3 Minuten). \n  \nLesung der Hamburger Autorenvereinigung \n\nDienstag\, 03. Juni 2025\, 19-20:30 Uhr \nAWO-Treff im Teehaus Große Wallanlagen \nEintritt: 6 € \n  \n 
URL:https://www.hh-av.de/veranstaltung/lesung-im-teehaus-grosse-wallanlagen-3/
LOCATION:Alfred-Schnittke-Akademie\, Max-Brauer-Allee 24\, Hamburg\, 22765
CATEGORIES:Hamburger Autorenvereinigung
END:VEVENT
BEGIN:VEVENT
DTSTART;TZID=Europe/Berlin:20250602T180000
DTEND;TZID=Europe/Berlin:20250602T213000
DTSTAMP:20260421T143347
CREATED:20250427T170155Z
LAST-MODIFIED:20250427T170155Z
UID:25592-1748887200-1748899800@www.hh-av.de
SUMMARY:Stammitisch der HAV - nur für Mitglieder
DESCRIPTION:Anmeldungen bitte direkt bei der Trattoria Toscana unter der Telefonnummer:  040 – 39 60 86 \noder per Email: trattoriatoscanahh@hotmail.com \n 
URL:https://www.hh-av.de/veranstaltung/stammitisch-der-hav-nur-fuer-mitglieder/
LOCATION:Trattoria Toscana\, Holländische Reihe 25\, Hamburg\, Hamburg\, 22765\, Deutschland
END:VEVENT
BEGIN:VEVENT
DTSTART;TZID=Europe/Berlin:20250505T180000
DTEND;TZID=Europe/Berlin:20250505T213000
DTSTAMP:20260421T143347
CREATED:20250427T165448Z
LAST-MODIFIED:20250427T165448Z
UID:25590-1746468000-1746480600@www.hh-av.de
SUMMARY:Stammtisch der HAV - nur für Mitglieder
DESCRIPTION:Anmeldungen bitte direkt bei der Trattoria Toscana unter der Telefonnummer:  040 – 39 60 86 \noder per Email: trattoriatoscanahh@hotmail.com \n 
URL:https://www.hh-av.de/veranstaltung/stammtisch-der-hav-nur-fuer-mitglieder-11/
LOCATION:Trattoria Toscana\, Holländische Reihe 25\, Hamburg\, Hamburg\, 22765\, Deutschland
CATEGORIES:Hamburger Autorenvereinigung
END:VEVENT
BEGIN:VEVENT
DTSTART;TZID=Europe/Berlin:20250501T110000
DTEND;TZID=Europe/Berlin:20250501T173000
DTSTAMP:20260421T143347
CREATED:20250426T123557Z
LAST-MODIFIED:20250426T123557Z
UID:25587-1746097200-1746120600@www.hh-av.de
SUMMARY:Zwei Veranstaltungen an einem Tag in der Alfred-Schnittke-Akademie
DESCRIPTION:Für Leser und Buchliebhaber:\n\nzwei Veranstaltungen an einem Tag\, beide in Hamburg Altona\nin der Schnittke-Akademie\nMax-Brauer-Allee 24\, rund 400 Meter vom Bahnhof Altona entfernt\n1_Mai_Schnittke-Akademie \n  \nDonnerstag\, 1. Mai\, 15:30 bis 17:30 Uhr\nHamburger Autorenvereinigung\nTiefgründige und humorvolle „Perlen der Literatur“\nFünf neue Bücher aus dem Input-Verlag \n(Wilhelm Busch\, Christof Stählin\, Cécile de Jong\, Guy de Maupassant\, Thomas Mann)\nmit Charlotte Ueckert\, Maren Schönfeld und Ralf Plenz.\nMusikalische Begleitung mit Stählin-Liedern: Holger Saarmann\, Gitarre\nEintritt: frei\n\nDonnerstag\, 1. Mai\, 11 bis 15 Uhr (inkl. Pause)\nBücherliebhaber und Bibliophile\ninklusive Büchertauschbörse\njeder Besucher bringt maximal 7 Bücher mit\nund tauscht kostenlos maximal 7 Bücher ein\nAusstellung und Podiumsgespräche\n(Verleger\, Journalisten\, Büchermacher/Buchkünstler)\n„Pirckheimer im Norden“\nEintritt: frei\nAlfred Schnittke-Akademie im Hochparterre\,\nMax-Brauer-Allee 24\, rund 400 Meter vom Bahnhof Hamburg-Altona
URL:https://www.hh-av.de/veranstaltung/zwei-veranstaltungen-an-einem-tag-in-der-alfred-schnittke-akademie/
LOCATION:Mahnmal St. Nikolai\, Willy-Brandt-Straße 60\, Hamburg\, 20457
CATEGORIES:Hamburger Autorenvereinigung
END:VEVENT
END:VCALENDAR